BEGIN:VCALENDAR
VERSION:2.0
PRODID:-//MyConnectivity - ECPv6.15.20//NONSGML v1.0//EN
CALSCALE:GREGORIAN
METHOD:PUBLISH
X-WR-CALNAME:MyConnectivity
X-ORIGINAL-URL:https://myconnectivity.lu
X-WR-CALDESC:Évènements pour MyConnectivity
REFRESH-INTERVAL;VALUE=DURATION:PT1H
X-Robots-Tag:noindex
X-PUBLISHED-TTL:PT1H
BEGIN:VTIMEZONE
TZID:Europe/Paris
BEGIN:DAYLIGHT
TZOFFSETFROM:+0100
TZOFFSETTO:+0200
TZNAME:CEST
DTSTART:20250330T010000
END:DAYLIGHT
BEGIN:STANDARD
TZOFFSETFROM:+0200
TZOFFSETTO:+0100
TZNAME:CET
DTSTART:20251026T010000
END:STANDARD
BEGIN:DAYLIGHT
TZOFFSETFROM:+0100
TZOFFSETTO:+0200
TZNAME:CEST
DTSTART:20260329T010000
END:DAYLIGHT
BEGIN:STANDARD
TZOFFSETFROM:+0200
TZOFFSETTO:+0100
TZNAME:CET
DTSTART:20261025T010000
END:STANDARD
BEGIN:DAYLIGHT
TZOFFSETFROM:+0100
TZOFFSETTO:+0200
TZNAME:CEST
DTSTART:20270328T010000
END:DAYLIGHT
BEGIN:STANDARD
TZOFFSETFROM:+0200
TZOFFSETTO:+0100
TZNAME:CET
DTSTART:20271031T010000
END:STANDARD
END:VTIMEZONE
BEGIN:VEVENT
DTSTART;VALUE=DATE:20260201
DTEND;VALUE=DATE:20260205
DTSTAMP:20260420T075735
CREATED:20250916T142542Z
LAST-MODIFIED:20250916T142727Z
UID:10000380-1769904000-1770249599@myconnectivity.lu
SUMMARY:Web Summit Qatar
DESCRIPTION:Le Web Summit Qatar sera de retour au Centre des expositions et des congrès de Doha (DECC) l’année prochaine. Des milliers d’entrepreneurs\, d’investisseurs et de dirigeants internationaux se réuniront pour le Web Summit Qatar 2026. Rejoignez-les. \nRéservez dès maintenant vos billets pour 2026 et rejoignez-nous à Doha en février prochain. \nPourquoi plus de 30 000 personnes se réuniront-elles au Qatar ? \nLe Web Summit Qatar aide à mettre en relation une nouvelle génération de fondateurs au Moyen-Orient avec des investisseurs\, des journalistes et bien d’autres acteurs à travers le monde. Nous sommes fiers de notre expérience en matière d’événements en direct. Le Guardian nous a qualifiés de « Glastonbury pour geeks ». Al Jazeera a déclaré que nous organisons « le plus grand rassemblement de start-ups internationales au Moyen-Orient ». \nPortée mondiale – Politico a déclaré que nous organisons « la plus grande conférence technologique au monde »\, et The Atlantic que le Web Summit est « le lieu où l’avenir va naître ». Le Web Summit Qatar rejoint la liste des événements internationaux organisés par le Web Summit\, aux côtés du Web Summit à Lisbonne\, du Web Summit Rio à Rio de Janeiro\, du Web Summit Vancouver au Canada et du RISE à Hong Kong.
URL:https://myconnectivity.lu/calendar-event/web-summit-qatar/
LOCATION:Doha Qatar\, Qatar
CATEGORIES:Summit
ATTACH;FMTTYPE=image/png:https://myconnectivity.lu/wp-content/uploads/2025/09/Screenshot-2025-09-16-at-16.20.39.png
END:VEVENT
END:VCALENDAR