BEGIN:VCALENDAR
VERSION:2.0
PRODID:-//MyConnectivity - ECPv6.15.20//NONSGML v1.0//EN
CALSCALE:GREGORIAN
METHOD:PUBLISH
X-ORIGINAL-URL:https://myconnectivity.lu
X-WR-CALDESC:Évènements pour MyConnectivity
REFRESH-INTERVAL;VALUE=DURATION:PT1H
X-Robots-Tag:noindex
X-PUBLISHED-TTL:PT1H
BEGIN:VTIMEZONE
TZID:Europe/Paris
BEGIN:DAYLIGHT
TZOFFSETFROM:+0100
TZOFFSETTO:+0200
TZNAME:CEST
DTSTART:20240331T010000
END:DAYLIGHT
BEGIN:STANDARD
TZOFFSETFROM:+0200
TZOFFSETTO:+0100
TZNAME:CET
DTSTART:20241027T010000
END:STANDARD
BEGIN:DAYLIGHT
TZOFFSETFROM:+0100
TZOFFSETTO:+0200
TZNAME:CEST
DTSTART:20250330T010000
END:DAYLIGHT
BEGIN:STANDARD
TZOFFSETFROM:+0200
TZOFFSETTO:+0100
TZNAME:CET
DTSTART:20251026T010000
END:STANDARD
BEGIN:DAYLIGHT
TZOFFSETFROM:+0100
TZOFFSETTO:+0200
TZNAME:CEST
DTSTART:20260329T010000
END:DAYLIGHT
BEGIN:STANDARD
TZOFFSETFROM:+0200
TZOFFSETTO:+0100
TZNAME:CET
DTSTART:20261025T010000
END:STANDARD
END:VTIMEZONE
BEGIN:VEVENT
DTSTART;VALUE=DATE:20251013
DTEND;VALUE=DATE:20251018
DTSTAMP:20260420T115747
CREATED:20250218T084213Z
LAST-MODIFIED:20250221T084623Z
UID:10000135-1760313600-1760745599@myconnectivity.lu
SUMMARY:GITEX Global
DESCRIPTION:GITEX GLOBAL 2025\, célébrant sa 45e édition\, est la plus grande et la plus emblématique exposition technologique au monde. Depuis plus de quatre décennies\, cet événement est la porte d’entrée incontournable pour les créateurs\, investisseurs et passionnés de technologie\, favorisant la collaboration entre les acteurs de l’industrie. Cette année\, l’événement atteint de nouveaux sommets en s’étendant sur deux lieux gigantesques – le Dubai World Trade Centre et Dubai Harbour. Avec plus de 40 halls d’exposition\, il met en avant les géants de la technologie ainsi que des startups innovantes dans des domaines tels que l’IA\, la cybersécurité\, la mobilité\, les technologies durables et bien plus encore. \nPréparez-vous à cinq jours palpitants\, remplis de conférences\, d’ateliers pratiques en direct\, de réseautage personnalisé et de partenariats d’affaires. Découvrez les dernières innovations technologiques qui façonnent notre avenir.
URL:https://myconnectivity.lu/calendar-event/gitex-global/
LOCATION:Sheikh Zayed Rd – Trade Centre – Trade Centre 2 – Dubai – Émirats arabes unis\, Sheikh Zayed Rd - Trade Centre - Trade Centre 2 - Dubai - Émirats arabes unis\, Dubai\, United Arab Emirates
CATEGORIES:Event
ATTACH;FMTTYPE=image/png:https://myconnectivity.lu/wp-content/uploads/2025/02/GITEX-Global-Dubai.png
END:VEVENT
BEGIN:VEVENT
DTSTART;VALUE=DATE:20251014
DTEND;VALUE=DATE:20251017
DTSTAMP:20260420T115747
CREATED:20250218T085120Z
LAST-MODIFIED:20250221T084709Z
UID:10000137-1760400000-1760659199@myconnectivity.lu
SUMMARY:Network X
DESCRIPTION:Network X est le seul événement qui réunit les marchés fixes et mobiles pour connecter les acteurs de l’industrie et construire des modèles économiques\, des cadres et des approches permettant de monétiser les segments B2B et grand public grâce aux réseaux fibre et 5G activés par l’IA et le cloud. Rencontrez des milliers de professionnels du secteur en personne\, restez à jour sur les tendances de l’industrie\, découvrez les derniers produits et services du marché\, et repartez avec de nouvelles informations et enseignements pour votre travail quotidien.
URL:https://myconnectivity.lu/calendar-event/network-x/
LOCATION:1 Place de la Porte de Versailles\, 75015 Paris\, 1 Place de la Porte de Versailles\, 75015 Paris\, Paris\, France
CATEGORIES:Event,Networking
ATTACH;FMTTYPE=image/jpeg:https://myconnectivity.lu/wp-content/uploads/2025/02/NetworkX-Paris.jpeg
END:VEVENT
BEGIN:VEVENT
DTSTART;VALUE=DATE:20251014
DTEND;VALUE=DATE:20251017
DTSTAMP:20260420T115747
CREATED:20250314T154732Z
LAST-MODIFIED:20250314T154830Z
UID:10000245-1760400000-1760659199@myconnectivity.lu
SUMMARY:MWC Las Vegas
DESCRIPTION:Le MWC Las Vegas est une conférence phare des télécommunications pour les entreprises et les leaders technologiques\, visant à explorer des solutions de connectivité de pointe. Il fait partie de la série MWC\, qui comprend des événements dans des lieux mondiaux tels que Barcelone\, Kigali et Shanghai. La conférence réunit des innovateurs des télécommunications pour discuter des avancées durables et des infrastructures informatiques.
URL:https://myconnectivity.lu/calendar-event/mwc-las-vegas/
LOCATION:Las Vegas Convention Center\, 3150 Paradise Rd\, Las Vegas\, NV 89109\, USA\, Las Vegas\, NV\, United States
CATEGORIES:Conference
ATTACH;FMTTYPE=image/png:https://myconnectivity.lu/wp-content/uploads/2025/03/MWC-Las-Vegas.png
END:VEVENT
BEGIN:VEVENT
DTSTART;TZID=Europe/Paris:20251014T080000
DTEND;TZID=Europe/Paris:20251014T170000
DTSTAMP:20260420T115747
CREATED:20250917T093732Z
LAST-MODIFIED:20250917T100953Z
UID:10000388-1760428800-1760461200@myconnectivity.lu
SUMMARY:Cloud & Cost efficiency: Strategies for Regaining Control with Amexio & IBM
DESCRIPTION:Reprenez le contrôle de vos environnements cloud : optimisation\, gouvernance et performances \nAlors que les coûts et la consommation liés au cloud continuent d’augmenter\, les services financiers et informatiques sont confrontés à un défi majeur : reprendre le contrôle de la rentabilité de leurs investissements dans le cloud. \n  \nComment les entreprises peuvent-elles exploiter pleinement la puissance de l’automatisation et de l’intelligence artificielle pour mieux gérer ces environnements en constante évolution ? \n  \nRejoignez-nous pour cette table ronde exclusive consacrée à la performance financière du cloud et découvrez comment mettre en œuvre des stratégies pratiques pour : \n  \nOptimiser les dépenses liées au cloud en identifiant les inefficacités et en améliorant durablement la rentabilité ; \nCentraliser et répartir les coûts liés au cloud par équipe\, produit ou application pour une gouvernance plus précise et plus équitable ; \nAméliorer la transparence financière et la responsabilité budgétaire à tous les niveaux de l’entreprise. \nGrâce à des études de cas concrets et à des discussions animées par des experts\, vous obtiendrez des informations pratiques et exploitables pour transformer la façon dont vous gérez vos opérations cloud. \n  \nAmexio partagera son expertise en matière d’automatisation intelligente des processus et de gouvernance de l’information pour vous aider à créer un environnement cloud plus contrôlé\, plus agile et plus rentable.
URL:https://myconnectivity.lu/calendar-event/cloud-cost-efficiency-strategies-for-regaining-control-with-amexio-ibm/
CATEGORIES:Event,Workshop
ATTACH;FMTTYPE=image/png:https://myconnectivity.lu/wp-content/uploads/2025/09/Screenshot-2025-09-17-at-10.28.28.png
END:VEVENT
BEGIN:VEVENT
DTSTART;TZID=Europe/Paris:20251014T150000
DTEND;TZID=Europe/Paris:20251014T173000
DTSTAMP:20260420T115747
CREATED:20250908T102753Z
LAST-MODIFIED:20250908T102753Z
UID:10000329-1760454000-1760463000@myconnectivity.lu
SUMMARY:WBBA Broadband Development Congress 2025
DESCRIPTION:Les infrastructures fixes à haut débit s’imposent comme une pierre angulaire de la croissance économique nationale\, de la souveraineté numérique et de l’innovation. Avec l’intelligence artificielle à l’avant-garde\, les dirigeants des télécommunications repensent la manière dont les réseaux\, les plateformes cloud et les écosystèmes de données peuvent être conçus pour servir les intérêts nationaux à long terme. \nCet événement explore comment les opérateurs télécoms peuvent conduire le développement d’infrastructures souveraines et prêtes pour l’avenir\, permettant des services basés sur l’IA\, attirant des investissements stratégiques et soutenant un développement économique durable. \nLes participants acquerront des perspectives sur l’alignement de la stratégie d’infrastructure avec les politiques publiques\, l’accélération du déploiement et la création de nouvelles valeurs grâce à l’IA\, au cloud et aux technologies haut débit de nouvelle génération. \nFaites partie de la conversation. Rencontrez les décideurs. Façonnez l’avenir.
URL:https://myconnectivity.lu/calendar-event/wbba-broadband-development-congress-2025/
LOCATION:Headliner Stage\, Network X\, Paris Expo Porte de Versailles\, Paris\, France
CATEGORIES:Conference
ATTACH;FMTTYPE=image/png:https://myconnectivity.lu/wp-content/uploads/2025/09/Screenshot-2025-09-08-at-11.08.19.png
END:VEVENT
END:VCALENDAR