BEGIN:VCALENDAR
VERSION:2.0
PRODID:-//MyConnectivity - ECPv6.15.20//NONSGML v1.0//EN
CALSCALE:GREGORIAN
METHOD:PUBLISH
X-WR-CALNAME:MyConnectivity
X-ORIGINAL-URL:https://myconnectivity.lu
X-WR-CALDESC:Évènements pour MyConnectivity
REFRESH-INTERVAL;VALUE=DURATION:PT1H
X-Robots-Tag:noindex
X-PUBLISHED-TTL:PT1H
BEGIN:VTIMEZONE
TZID:Europe/Paris
BEGIN:DAYLIGHT
TZOFFSETFROM:+0100
TZOFFSETTO:+0200
TZNAME:CEST
DTSTART:20240331T010000
END:DAYLIGHT
BEGIN:STANDARD
TZOFFSETFROM:+0200
TZOFFSETTO:+0100
TZNAME:CET
DTSTART:20241027T010000
END:STANDARD
BEGIN:DAYLIGHT
TZOFFSETFROM:+0100
TZOFFSETTO:+0200
TZNAME:CEST
DTSTART:20250330T010000
END:DAYLIGHT
BEGIN:STANDARD
TZOFFSETFROM:+0200
TZOFFSETTO:+0100
TZNAME:CET
DTSTART:20251026T010000
END:STANDARD
BEGIN:DAYLIGHT
TZOFFSETFROM:+0100
TZOFFSETTO:+0200
TZNAME:CEST
DTSTART:20260329T010000
END:DAYLIGHT
BEGIN:STANDARD
TZOFFSETFROM:+0200
TZOFFSETTO:+0100
TZNAME:CET
DTSTART:20261025T010000
END:STANDARD
END:VTIMEZONE
BEGIN:VEVENT
DTSTART;TZID=Europe/Paris:20250910T080000
DTEND;TZID=Europe/Paris:20250910T170000
DTSTAMP:20260420T221745
CREATED:20250908T140759Z
LAST-MODIFIED:20250908T141122Z
UID:10000341-1757491200-1757523600@myconnectivity.lu
SUMMARY:BIG Startup Apéro
DESCRIPTION:GRAND apéritif de démarrage \nUne célébration unique de 12 ans de startups et de médias au Luxembourg \nRejoignez-nous pour une édition vraiment spéciale de Startup Apéro – le BIG Startup Apéro – alors que nous célébrons les 12 ans du Silicon Luxembourg\, de l’entrepreneuriat et de la scène dynamique des startups locales ! \nPour cet événement unique\, nous sommes ravis d’accueillir Charles-Louis Machuron\, fondateur de Silicon Luxembourg et initiateur de la série Startup Apéro\, lancée pour la première fois en janvier 2014. Cette discussion au coin du feu\, animée par Judith Schleder\, vous emmenera dans un voyage à travers plus d’une décennie de narration de startups au Luxembourg : l’essor de la marque média\, l’évolution de l’écosystème technologique local\, le lancement de nouvelles entreprises médiatiques et – surtout – la transition de la direction opérationnelle de Silicon Luxembourg vers une nouvelle équipe prête à écrire le prochain chapitre\, tandis que le fondateur Charles-Louis Machuron reste pleinement impliqué dans la croissance et le développement de l’entreprise. \nCe BIG Startup Apéro est plus qu’un événement – c’est un rassemblement de toute la communauté de la technologie et de l’innovation : fondateurs de startups\, investisseurs\, leaders de l’innovation\, parties prenantes du secteur public et toute personne passionnée par l’avenir de la technologie au Luxembourg.
URL:https://myconnectivity.lu/calendar-event/big-startup-apero/
LOCATION:Silversquare Liberté\, 21\, Rue Glesener\, L-1631\, Luxembourg Luxembourg\, 1631\, Luxembourg
CATEGORIES:After Work
ATTACH;FMTTYPE=image/png:https://myconnectivity.lu/wp-content/uploads/2025/09/Screenshot-2025-09-08-at-16.05.07.png
END:VEVENT
BEGIN:VEVENT
DTSTART;TZID=Europe/Paris:20250912T080000
DTEND;TZID=Europe/Paris:20250912T170000
DTSTAMP:20260420T221745
CREATED:20250905T141535Z
LAST-MODIFIED:20250908T103157Z
UID:10000330-1757664000-1757696400@myconnectivity.lu
SUMMARY:L-DIH Talks  Awareness session on tax relief measures and national funding (DE)
DESCRIPTION:Le “L-DIH Talks” est une série de webinaires conçue pour inspirer les entreprises de production tournées vers l’avenir\, désireuses d’exploiter les technologies émergentes pour garder une longueur d’avance. Organisée deux fois par mois\, la série propose des informations essentielles\, des conseils d’experts et des contacts pour stimuler la transformation numérique du secteur au Luxembourg et dans la Grande Région. Les épisodes de 2025 couvriront un large éventail de sujets\, tels que la cybersécurité\, la maintenance prédictive\, les technologies opérationnelles (OT)\, l’inspection visuelle\, et bien plus encore.
URL:https://myconnectivity.lu/calendar-event/l-dih-talks-awareness-session-on-tax-relief-measures-and-national-funding-de/
CATEGORIES:Webinar
ATTACH;FMTTYPE=image/png:https://myconnectivity.lu/wp-content/uploads/2025/09/Screenshot-2025-09-05-at-16.11.36.png
END:VEVENT
BEGIN:VEVENT
DTSTART;TZID=Europe/Paris:20250912T110000
DTEND;TZID=Europe/Paris:20250912T120000
DTSTAMP:20260420T221745
CREATED:20250729T140556Z
LAST-MODIFIED:20250729T140647Z
UID:10000298-1757674800-1757678400@myconnectivity.lu
SUMMARY:L-DIH Talks: Awareness session on tax relief measures and national funding
DESCRIPTION: Les L-DIH Talks sont une série de webinaires conçus pour inspirer les entreprises manufacturières tournées vers l’avenir et désireuses d’exploiter les technologies émergentes afin de garder une longueur d’avance. Organisée deux fois par mois\, cette série offre des informations essentielles\, des conseils d’experts et des opportunités de mise en réseau pour accompagner la transformation numérique du secteur au Luxembourg et dans la Grande Région.\nLes épisodes de 2025 aborderont une large gamme de thématiques\, telles que la cybersécurité\, la maintenance prédictive\, les technologies opérationnelles (OT)\, l’inspection visuelle\, et bien plus encore.
URL:https://myconnectivity.lu/calendar-event/l-dih-talks-awareness-session-on-tax-relief-measures-and-national-funding/
CATEGORIES:Event,Webinar
ATTACH;FMTTYPE=image/png:https://myconnectivity.lu/wp-content/uploads/2025/07/Screenshot-2025-07-29-at-16.05.05.png
END:VEVENT
BEGIN:VEVENT
DTSTART;VALUE=DATE:20250914
DTEND;VALUE=DATE:20250917
DTSTAMP:20260420T221745
CREATED:20250217T121818Z
LAST-MODIFIED:20250221T083942Z
UID:10000082-1757808000-1758067199@myconnectivity.lu
SUMMARY:Shift Conference
DESCRIPTION:Infobip Shift est une conférence qui rassemble la communauté mondiale des développeurs\, offrant un contenu interactif\, engageant et excitant dans une atmosphère unique. \nAvec un fort accent sur la création d’une expérience unique\, agréable et bénéfique pour tous les participants\, Shift est devenu l’un des plus grands et des plus fréquentés événements pour développeurs en Europe\, avec un seul objectif en tête : rassembler tous les développeurs. Tous.
URL:https://myconnectivity.lu/calendar-event/shift-conference/
LOCATION:The Kresimir Cosic Hall\, Splitska ul. 3\, 23000 Zadar\, Croatia\, The Kresimir Cosic Hall\, Splitska ul. 3\, 23000 Zadar\, Croatia\, Zadar\, Croatia (Local Name: Hrvatska)
CATEGORIES:Conference
ATTACH;FMTTYPE=image/jpeg:https://myconnectivity.lu/wp-content/uploads/2025/02/Shift-Croatia.jpeg
END:VEVENT
END:VCALENDAR