BEGIN:VCALENDAR
VERSION:2.0
PRODID:-//MyConnectivity - ECPv6.15.20//NONSGML v1.0//EN
CALSCALE:GREGORIAN
METHOD:PUBLISH
X-ORIGINAL-URL:https://myconnectivity.lu
X-WR-CALDESC:Évènements pour MyConnectivity
REFRESH-INTERVAL;VALUE=DURATION:PT1H
X-Robots-Tag:noindex
X-PUBLISHED-TTL:PT1H
BEGIN:VTIMEZONE
TZID:Europe/Paris
BEGIN:DAYLIGHT
TZOFFSETFROM:+0100
TZOFFSETTO:+0200
TZNAME:CEST
DTSTART:20240331T010000
END:DAYLIGHT
BEGIN:STANDARD
TZOFFSETFROM:+0200
TZOFFSETTO:+0100
TZNAME:CET
DTSTART:20241027T010000
END:STANDARD
BEGIN:DAYLIGHT
TZOFFSETFROM:+0100
TZOFFSETTO:+0200
TZNAME:CEST
DTSTART:20250330T010000
END:DAYLIGHT
BEGIN:STANDARD
TZOFFSETFROM:+0200
TZOFFSETTO:+0100
TZNAME:CET
DTSTART:20251026T010000
END:STANDARD
BEGIN:DAYLIGHT
TZOFFSETFROM:+0100
TZOFFSETTO:+0200
TZNAME:CEST
DTSTART:20260329T010000
END:DAYLIGHT
BEGIN:STANDARD
TZOFFSETFROM:+0200
TZOFFSETTO:+0100
TZNAME:CET
DTSTART:20261025T010000
END:STANDARD
END:VTIMEZONE
BEGIN:VEVENT
DTSTART;TZID=Europe/Paris:20251202T090000
DTEND;TZID=Europe/Paris:20251202T180000
DTSTAMP:20260422T125840
CREATED:20250225T085005Z
LAST-MODIFIED:20250225T085113Z
UID:10000169-1764666000-1764698400@myconnectivity.lu
SUMMARY:Data Summit Luxembourg
DESCRIPTION:Le Data Summit Luxembourg est l’événement de référence dédié à la mise en valeur du potentiel de création de valeur des données du secteur public. L’utilisation secondaire des données présente un potentiel immense\, mais de nombreux défis existent pour trouver et accéder aux données dont vous avez besoin. En rendant les données plus accessibles et découvrables\, nous pouvons libérer le potentiel des données existantes et ouvrir la voie à l’innovation. \nRejoignez-nous pour découvrir des approches innovantes\, participer à des sessions interactives et échanger avec des professionnels des données issus du milieu académique\, du gouvernement et de l’industrie. \nLa date de la troisième édition est fixée\, et elle se déroulera le 2 décembre 2025 au Centre Européen de Conférence de Luxembourg.
URL:https://myconnectivity.lu/calendar-event/data-summit-luxembourg/
LOCATION:4\, Place de l’Europe  L-1499 Luxembourg\, 4\, Place de l'Europe L-1499 Luxembourg\, Luxembourg\, Luxembourg
CATEGORIES:Summit
ATTACH;FMTTYPE=image/png:https://myconnectivity.lu/wp-content/uploads/2025/02/Data-Summit-Luxembourg-.png
END:VEVENT
END:VCALENDAR