BEGIN:VCALENDAR
VERSION:2.0
PRODID:-//MyConnectivity - ECPv6.15.20//NONSGML v1.0//EN
CALSCALE:GREGORIAN
METHOD:PUBLISH
X-ORIGINAL-URL:https://myconnectivity.lu
X-WR-CALDESC:Évènements pour MyConnectivity
REFRESH-INTERVAL;VALUE=DURATION:PT1H
X-Robots-Tag:noindex
X-PUBLISHED-TTL:PT1H
BEGIN:VTIMEZONE
TZID:Europe/Paris
BEGIN:DAYLIGHT
TZOFFSETFROM:+0100
TZOFFSETTO:+0200
TZNAME:CEST
DTSTART:20240331T010000
END:DAYLIGHT
BEGIN:STANDARD
TZOFFSETFROM:+0200
TZOFFSETTO:+0100
TZNAME:CET
DTSTART:20241027T010000
END:STANDARD
BEGIN:DAYLIGHT
TZOFFSETFROM:+0100
TZOFFSETTO:+0200
TZNAME:CEST
DTSTART:20250330T010000
END:DAYLIGHT
BEGIN:STANDARD
TZOFFSETFROM:+0200
TZOFFSETTO:+0100
TZNAME:CET
DTSTART:20251026T010000
END:STANDARD
BEGIN:DAYLIGHT
TZOFFSETFROM:+0100
TZOFFSETTO:+0200
TZNAME:CEST
DTSTART:20260329T010000
END:DAYLIGHT
BEGIN:STANDARD
TZOFFSETFROM:+0200
TZOFFSETTO:+0100
TZNAME:CET
DTSTART:20261025T010000
END:STANDARD
END:VTIMEZONE
BEGIN:VEVENT
DTSTART;VALUE=DATE:20251110
DTEND;VALUE=DATE:20251114
DTSTAMP:20260422T182647
CREATED:20250217T152542Z
LAST-MODIFIED:20250221T084953Z
UID:10000161-1762732800-1763078399@myconnectivity.lu
SUMMARY:Web Summit
DESCRIPTION:Politico a déclaré que nous organisons « la conférence technologique la plus importante au monde »\, l’Atlantic a affirmé que Web Summit est « l’endroit où l’avenir naît »\, et le New York Times a dit que nous rassemblons « un grand conclave des hauts prêtres de l’industrie technologique ».
URL:https://myconnectivity.lu/calendar-event/web-summit/
LOCATION:Rossio dos Olivais\, 1990-231 Lisboa\, Portugal\, Rossio dos Olivais\, 1990-231 Lisboa\, Portugal\, Lisbon\, Portugal
CATEGORIES:Summit
ATTACH;FMTTYPE=image/png:https://myconnectivity.lu/wp-content/uploads/2025/02/Web-Summit.png
END:VEVENT
END:VCALENDAR