BEGIN:VCALENDAR
VERSION:2.0
PRODID:-//MyConnectivity - ECPv6.15.20//NONSGML v1.0//EN
CALSCALE:GREGORIAN
METHOD:PUBLISH
X-WR-CALNAME:MyConnectivity
X-ORIGINAL-URL:https://myconnectivity.lu
X-WR-CALDESC:Évènements pour MyConnectivity
REFRESH-INTERVAL;VALUE=DURATION:PT1H
X-Robots-Tag:noindex
X-PUBLISHED-TTL:PT1H
BEGIN:VTIMEZONE
TZID:Europe/Paris
BEGIN:DAYLIGHT
TZOFFSETFROM:+0100
TZOFFSETTO:+0200
TZNAME:CEST
DTSTART:20240331T010000
END:DAYLIGHT
BEGIN:STANDARD
TZOFFSETFROM:+0200
TZOFFSETTO:+0100
TZNAME:CET
DTSTART:20241027T010000
END:STANDARD
BEGIN:DAYLIGHT
TZOFFSETFROM:+0100
TZOFFSETTO:+0200
TZNAME:CEST
DTSTART:20250330T010000
END:DAYLIGHT
BEGIN:STANDARD
TZOFFSETFROM:+0200
TZOFFSETTO:+0100
TZNAME:CET
DTSTART:20251026T010000
END:STANDARD
BEGIN:DAYLIGHT
TZOFFSETFROM:+0100
TZOFFSETTO:+0200
TZNAME:CEST
DTSTART:20260329T010000
END:DAYLIGHT
BEGIN:STANDARD
TZOFFSETFROM:+0200
TZOFFSETTO:+0100
TZNAME:CET
DTSTART:20261025T010000
END:STANDARD
END:VTIMEZONE
BEGIN:VEVENT
DTSTART;VALUE=DATE:20250827
DTEND;VALUE=DATE:20250829
DTSTAMP:20260423T001140
CREATED:20250217T104623Z
LAST-MODIFIED:20250221T083928Z
UID:10000080-1756252800-1756425599@myconnectivity.lu
SUMMARY:TechBBQ 2025
DESCRIPTION:TechBBQ est devenu le cœur battant de l’écosystème des startups et de l’innovation en Scandinavie. \nCe qui a commencé comme une simple rencontre autour d’un BBQ pour les passionnés de technologie et les entrepreneurs en 2013\, s’est transformé en un sommet de grande envergure qui attire des participants du monde entier pour deux jours d’inspiration\, de réseautage et de croissance.
URL:https://myconnectivity.lu/calendar-event/techbbq-2025/
LOCATION:Højbro Pl. 10\, 1200 København\, Danemark\, Højbro Pl. 10\, 1200 København\, Danemark\, Danemark\, Denmark
CATEGORIES:Summit
ATTACH;FMTTYPE=image/jpeg:https://myconnectivity.lu/wp-content/uploads/2025/02/TechBBQ.jpeg
END:VEVENT
END:VCALENDAR