BEGIN:VCALENDAR
VERSION:2.0
PRODID:-//MyConnectivity - ECPv6.15.20//NONSGML v1.0//EN
CALSCALE:GREGORIAN
METHOD:PUBLISH
X-WR-CALNAME:MyConnectivity
X-ORIGINAL-URL:https://myconnectivity.lu
X-WR-CALDESC:Évènements pour MyConnectivity
REFRESH-INTERVAL;VALUE=DURATION:PT1H
X-Robots-Tag:noindex
X-PUBLISHED-TTL:PT1H
BEGIN:VTIMEZONE
TZID:Europe/Paris
BEGIN:DAYLIGHT
TZOFFSETFROM:+0100
TZOFFSETTO:+0200
TZNAME:CEST
DTSTART:20240331T010000
END:DAYLIGHT
BEGIN:STANDARD
TZOFFSETFROM:+0200
TZOFFSETTO:+0100
TZNAME:CET
DTSTART:20241027T010000
END:STANDARD
BEGIN:DAYLIGHT
TZOFFSETFROM:+0100
TZOFFSETTO:+0200
TZNAME:CEST
DTSTART:20250330T010000
END:DAYLIGHT
BEGIN:STANDARD
TZOFFSETFROM:+0200
TZOFFSETTO:+0100
TZNAME:CET
DTSTART:20251026T010000
END:STANDARD
BEGIN:DAYLIGHT
TZOFFSETFROM:+0100
TZOFFSETTO:+0200
TZNAME:CEST
DTSTART:20260329T010000
END:DAYLIGHT
BEGIN:STANDARD
TZOFFSETFROM:+0200
TZOFFSETTO:+0100
TZNAME:CET
DTSTART:20261025T010000
END:STANDARD
END:VTIMEZONE
BEGIN:VEVENT
DTSTART;VALUE=DATE:20251008
DTEND;VALUE=DATE:20251010
DTSTAMP:20260422T165819
CREATED:20250218T083403Z
LAST-MODIFIED:20250221T084555Z
UID:10000133-1759881600-1760054399@myconnectivity.lu
SUMMARY:Sifted Summit
DESCRIPTION:De la page web à la scène : le Sifted Summit rassemble à nouveau toute l’Europe des startups sous un même toit. \nEn octobre 2025\, rejoignez 3 000 fondateurs\, opérateurs de startups et scaleups\, ainsi que des investisseurs\, pour découvrir comment l’écosystème se réajuste et répond au renouveau des startups. \nL’événement se tiendra à Magazine\, à Londres\, dans le quartier de North Greenwich — nous avons hâte de vous y retrouver en 2025.
URL:https://myconnectivity.lu/calendar-event/sifted-summit/
LOCATION:Privé : Magazine London 11 Ordnance Cres London SE10 0JH\, Magazine London\, 11 Ordnance Cres\, London\, SE10 0JH\, London\, United Kingdom
CATEGORIES:Summit
ATTACH;FMTTYPE=image/webp:https://myconnectivity.lu/wp-content/uploads/2025/02/Sifted-Summit-London.webp
END:VEVENT
END:VCALENDAR