BEGIN:VCALENDAR
VERSION:2.0
PRODID:-//MyConnectivity - ECPv6.15.20//NONSGML v1.0//EN
CALSCALE:GREGORIAN
METHOD:PUBLISH
X-WR-CALNAME:MyConnectivity
X-ORIGINAL-URL:https://myconnectivity.lu
X-WR-CALDESC:Évènements pour MyConnectivity
REFRESH-INTERVAL;VALUE=DURATION:PT1H
X-Robots-Tag:noindex
X-PUBLISHED-TTL:PT1H
BEGIN:VTIMEZONE
TZID:Europe/Paris
BEGIN:DAYLIGHT
TZOFFSETFROM:+0100
TZOFFSETTO:+0200
TZNAME:CEST
DTSTART:20250330T010000
END:DAYLIGHT
BEGIN:STANDARD
TZOFFSETFROM:+0200
TZOFFSETTO:+0100
TZNAME:CET
DTSTART:20251026T010000
END:STANDARD
BEGIN:DAYLIGHT
TZOFFSETFROM:+0100
TZOFFSETTO:+0200
TZNAME:CEST
DTSTART:20260329T010000
END:DAYLIGHT
BEGIN:STANDARD
TZOFFSETFROM:+0200
TZOFFSETTO:+0100
TZNAME:CET
DTSTART:20261025T010000
END:STANDARD
BEGIN:DAYLIGHT
TZOFFSETFROM:+0100
TZOFFSETTO:+0200
TZNAME:CEST
DTSTART:20270328T010000
END:DAYLIGHT
BEGIN:STANDARD
TZOFFSETFROM:+0200
TZOFFSETTO:+0100
TZNAME:CET
DTSTART:20271031T010000
END:STANDARD
END:VTIMEZONE
BEGIN:VEVENT
DTSTART;TZID=Europe/Paris:20260318T153000
DTEND;TZID=Europe/Paris:20260318T183000
DTSTAMP:20260420T205922
CREATED:20260127T161644Z
LAST-MODIFIED:20260127T161948Z
UID:10000488-1773847800-1773858600@myconnectivity.lu
SUMMARY:Techsense summit
DESCRIPTION:L’infrastructure informatique n’est plus seulement une base technique. Elle est devenue un levier stratégique. \nAlors que le cloud\, l’IA et les pressions réglementaires redessinent le paysage numérique\, le véritable défi n’est plus l’adoption\, mais la responsabilité : qui est propriétaire de l’infrastructure\, qui gère les données et dans quelle mesure les organisations sont-elles préparées en cas de perturbation ? \nLors du TechSense Summit\, les DSI\, les responsables informatiques et les fournisseurs de technologies exploreront comment les choix en matière d’infrastructure façonnent la résilience\, la confiance et la compétitivité à long terme\, de la stratégie cloud et des architectures prêtes pour l’IA à la sécurité\, la gouvernance et la préparation opérationnelle.
URL:https://myconnectivity.lu/calendar-event/techsense-summit/
LOCATION:DELOITTE LUXEMBOURG\, 20 BD DE KOCKELSCHEUER\, 1821 GASPERICH LUXEMBOURG\, Luxembourg
CATEGORIES:Conference,Event
ATTACH;FMTTYPE=image/png:https://myconnectivity.lu/wp-content/uploads/2026/01/Captura-de-ecra-2026-01-27-as-17.13.14.png
END:VEVENT
END:VCALENDAR