BEGIN:VCALENDAR
VERSION:2.0
PRODID:-//MyConnectivity - ECPv6.15.20//NONSGML v1.0//EN
CALSCALE:GREGORIAN
METHOD:PUBLISH
X-WR-CALNAME:MyConnectivity
X-ORIGINAL-URL:https://myconnectivity.lu
X-WR-CALDESC:Évènements pour MyConnectivity
REFRESH-INTERVAL;VALUE=DURATION:PT1H
X-Robots-Tag:noindex
X-PUBLISHED-TTL:PT1H
BEGIN:VTIMEZONE
TZID:Europe/Paris
BEGIN:DAYLIGHT
TZOFFSETFROM:+0100
TZOFFSETTO:+0200
TZNAME:CEST
DTSTART:20240331T010000
END:DAYLIGHT
BEGIN:STANDARD
TZOFFSETFROM:+0200
TZOFFSETTO:+0100
TZNAME:CET
DTSTART:20241027T010000
END:STANDARD
BEGIN:DAYLIGHT
TZOFFSETFROM:+0100
TZOFFSETTO:+0200
TZNAME:CEST
DTSTART:20250330T010000
END:DAYLIGHT
BEGIN:STANDARD
TZOFFSETFROM:+0200
TZOFFSETTO:+0100
TZNAME:CET
DTSTART:20251026T010000
END:STANDARD
BEGIN:DAYLIGHT
TZOFFSETFROM:+0100
TZOFFSETTO:+0200
TZNAME:CEST
DTSTART:20260329T010000
END:DAYLIGHT
BEGIN:STANDARD
TZOFFSETFROM:+0200
TZOFFSETTO:+0100
TZNAME:CET
DTSTART:20261025T010000
END:STANDARD
END:VTIMEZONE
BEGIN:VEVENT
DTSTART;TZID=Europe/Paris:20250918T080000
DTEND;TZID=Europe/Paris:20250918T170000
DTSTAMP:20260421T053335
CREATED:20250918T150600Z
LAST-MODIFIED:20250918T150911Z
UID:10000411-1758182400-1758214800@myconnectivity.lu
SUMMARY:5G Forum
DESCRIPTION:QU’EST-CE QUE LE 5G FORUM \nLe 5G FORUM est la première rencontre multidisciplinaire sur la technologie 5G organisée en Espagne. \nLe 5G FORUM met chaque année en avant les avancées de la technologie 5G et constitue une occasion d’échanger des connaissances sur les applications pratiques de cette technologie. \nÉVÉNEMENT MULTIDISCIPLINAIRE SUR LA 5G \nContrairement à d’autres événements à thème vertical\, le 5G FORUM offre une vision plus panoramique et se veut le premier événement national consacré aux différentes applications de la 5G. \nAu cours de trois journées en présentiel et deux journées en ligne\, nous avons abordé les thèmes suivants\, en consacrant une partie de l’ordre du jour à chacun d’entre eux : \nDÉPLOIEMENT DE LA 5G \nINTERNET DES OBJETS \nVILLES INTELLIGENTES \nVOITURES CONNECTÉES \nSANTÉ ET TÉLÉMÉDECINE \nSERVICES D’URGENCE \nCYBERSÉCURITÉ \nINTELLIGENCE ARTIFICIELLE \nBIG DATA \nTOURISME INTELLIGENT \nPROJETS UNIVERSITAIRES
URL:https://myconnectivity.lu/calendar-event/5g-forum-3/
CATEGORIES:Event
ATTACH;FMTTYPE=image/png:https://myconnectivity.lu/wp-content/uploads/2025/09/Screenshot-2025-09-18-at-17.01.57.png
END:VEVENT
BEGIN:VEVENT
DTSTART;TZID=Europe/Paris:20250919T080000
DTEND;TZID=Europe/Paris:20250919T170000
DTSTAMP:20260421T053335
CREATED:20250919T140352Z
LAST-MODIFIED:20250919T140704Z
UID:10000417-1758268800-1758301200@myconnectivity.lu
SUMMARY:CEF Digital Conference and European Digital Connectivity Awards 2025
DESCRIPTION:Le même jour\, la conférence sera suivie par les Prix européens de la connectivité numérique\, un événement qui met à l’honneur des projets remarquables apportant une connectivité numérique à haut débit en Europe. L’édition 2025 présente neuf initiatives exceptionnelles. \nInscription\nVeuillez vous connecter ou créer votre compte ici pour vous inscrire et réserver votre place. Au cours du processus d’inscription\, vous pourrez choisir si vous souhaitez participer à la Conférence de la Communauté CEF Digital\, à la Cérémonie des Prix EDC\, ou aux deux. Une fois l’inscription soumise\, votre participation sera automatiquement confirmée pour l’événement ou les événements que vous aurez sélectionnés.]
URL:https://myconnectivity.lu/calendar-event/cef-digital-conference-and-european-digital-connectivity-awards-2025/
CATEGORIES:Conference,Event
ATTACH;FMTTYPE=image/png:https://myconnectivity.lu/wp-content/uploads/2025/09/Screenshot-2025-09-19-at-16.03.34.png
END:VEVENT
END:VCALENDAR