BEGIN:VCALENDAR
VERSION:2.0
PRODID:-//MyConnectivity - ECPv6.15.20//NONSGML v1.0//EN
CALSCALE:GREGORIAN
METHOD:PUBLISH
X-WR-CALNAME:MyConnectivity
X-ORIGINAL-URL:https://myconnectivity.lu
X-WR-CALDESC:Évènements pour MyConnectivity
REFRESH-INTERVAL;VALUE=DURATION:PT1H
X-Robots-Tag:noindex
X-PUBLISHED-TTL:PT1H
BEGIN:VTIMEZONE
TZID:Europe/Paris
BEGIN:DAYLIGHT
TZOFFSETFROM:+0100
TZOFFSETTO:+0200
TZNAME:CEST
DTSTART:20240331T010000
END:DAYLIGHT
BEGIN:STANDARD
TZOFFSETFROM:+0200
TZOFFSETTO:+0100
TZNAME:CET
DTSTART:20241027T010000
END:STANDARD
BEGIN:DAYLIGHT
TZOFFSETFROM:+0100
TZOFFSETTO:+0200
TZNAME:CEST
DTSTART:20250330T010000
END:DAYLIGHT
BEGIN:STANDARD
TZOFFSETFROM:+0200
TZOFFSETTO:+0100
TZNAME:CET
DTSTART:20251026T010000
END:STANDARD
BEGIN:DAYLIGHT
TZOFFSETFROM:+0100
TZOFFSETTO:+0200
TZNAME:CEST
DTSTART:20260329T010000
END:DAYLIGHT
BEGIN:STANDARD
TZOFFSETFROM:+0200
TZOFFSETTO:+0100
TZNAME:CET
DTSTART:20261025T010000
END:STANDARD
END:VTIMEZONE
BEGIN:VEVENT
DTSTART;VALUE=DATE:20251006
DTEND;VALUE=DATE:20251010
DTSTAMP:20260421T040515
CREATED:20250218T082700Z
LAST-MODIFIED:20250221T084536Z
UID:10000131-1759708800-1760054399@myconnectivity.lu
SUMMARY:IBM TechXchange Conference
DESCRIPTION:La conférence de 2025 sera la plus grande jamais organisée\, réunissant des milliers de développeurs\, technologues et professionnels du monde entier à Orlando. C’est l’opportunité idéale pour partager vos parcours produits techniques\, cas d’utilisation et leçons apprises avec l’audience technique la plus engagée d’IBM. \n\nOpportunités de collaboration : connectez-vous avec des experts et résolvez ensemble vos problèmes techniques les plus complexes.\nVisibilité et développement : mettez en avant votre expertise et construisez votre marque professionnelle en tant qu’expert technique.\nInvitez un collègue : des passes supplémentaires gratuites sont disponibles pour que les intervenants clients puissent amener leurs coéquipiers.
URL:https://myconnectivity.lu/calendar-event/ibm-techxchange-conference/
LOCATION:Privé : Orlando\, FL\, United States
CATEGORIES:Conference
ATTACH;FMTTYPE=image/jpeg:https://myconnectivity.lu/wp-content/uploads/2025/02/IBM-TechXchange-Conference-Orlando.jpeg
END:VEVENT
BEGIN:VEVENT
DTSTART;VALUE=DATE:20251008
DTEND;VALUE=DATE:20251010
DTSTAMP:20260421T040515
CREATED:20250218T083403Z
LAST-MODIFIED:20250221T084555Z
UID:10000133-1759881600-1760054399@myconnectivity.lu
SUMMARY:Sifted Summit
DESCRIPTION:De la page web à la scène : le Sifted Summit rassemble à nouveau toute l’Europe des startups sous un même toit. \nEn octobre 2025\, rejoignez 3 000 fondateurs\, opérateurs de startups et scaleups\, ainsi que des investisseurs\, pour découvrir comment l’écosystème se réajuste et répond au renouveau des startups. \nL’événement se tiendra à Magazine\, à Londres\, dans le quartier de North Greenwich — nous avons hâte de vous y retrouver en 2025.
URL:https://myconnectivity.lu/calendar-event/sifted-summit/
LOCATION:Privé : Magazine London 11 Ordnance Cres London SE10 0JH\, Magazine London\, 11 Ordnance Cres\, London\, SE10 0JH\, London\, United Kingdom
CATEGORIES:Summit
ATTACH;FMTTYPE=image/webp:https://myconnectivity.lu/wp-content/uploads/2025/02/Sifted-Summit-London.webp
END:VEVENT
BEGIN:VEVENT
DTSTART;VALUE=DATE:20251008
DTEND;VALUE=DATE:20251011
DTSTAMP:20260421T040515
CREATED:20250924T133440Z
LAST-MODIFIED:20250924T133533Z
UID:10000422-1759881600-1760140799@myconnectivity.lu
SUMMARY:23e réunion annuelle de Fratel
DESCRIPTION:La 23e réunion annuelle du réseau se tiendra les jeudi 9 et vendredi 10 octobre\, au Centre de convention européen de Luxembourg. La réunion annuelle portera sur : Grands acteurs internationaux du numérique : quels impacts au niveau local ?. \nNous aborderons\, au cours de trois tables rondes\, les enjeux de régulation des services numériques\, en particulier pour l’informatique en nuage ( cloud ) et l’intelligence artificielle\, ainsi que les problématiques ayant un impact mondial comme l’empreinte environnementale du secteur des TIC. Une attention particulière sera portée à la coopération transfrontière et au rôle que peuvent jouer les associations régionales de régulateurs dans ces différentes thématiques.
URL:https://myconnectivity.lu/calendar-event/23e-reunion-annuelle-de-fratel/
LOCATION:The European Convention Center in Luxembourg\, Luxembourg
CATEGORIES:Event
ATTACH;FMTTYPE=image/png:https://myconnectivity.lu/wp-content/uploads/2025/09/Screenshot-2025-09-24-at-15.34.16.png
END:VEVENT
END:VCALENDAR