BEGIN:VCALENDAR
VERSION:2.0
PRODID:-//MyConnectivity - ECPv6.15.20//NONSGML v1.0//EN
CALSCALE:GREGORIAN
METHOD:PUBLISH
X-WR-CALNAME:MyConnectivity
X-ORIGINAL-URL:https://myconnectivity.lu
X-WR-CALDESC:Évènements pour MyConnectivity
REFRESH-INTERVAL;VALUE=DURATION:PT1H
X-Robots-Tag:noindex
X-PUBLISHED-TTL:PT1H
BEGIN:VTIMEZONE
TZID:Europe/Paris
BEGIN:DAYLIGHT
TZOFFSETFROM:+0100
TZOFFSETTO:+0200
TZNAME:CEST
DTSTART:20240331T010000
END:DAYLIGHT
BEGIN:STANDARD
TZOFFSETFROM:+0200
TZOFFSETTO:+0100
TZNAME:CET
DTSTART:20241027T010000
END:STANDARD
BEGIN:DAYLIGHT
TZOFFSETFROM:+0100
TZOFFSETTO:+0200
TZNAME:CEST
DTSTART:20250330T010000
END:DAYLIGHT
BEGIN:STANDARD
TZOFFSETFROM:+0200
TZOFFSETTO:+0100
TZNAME:CET
DTSTART:20251026T010000
END:STANDARD
BEGIN:DAYLIGHT
TZOFFSETFROM:+0100
TZOFFSETTO:+0200
TZNAME:CEST
DTSTART:20260329T010000
END:DAYLIGHT
BEGIN:STANDARD
TZOFFSETFROM:+0200
TZOFFSETTO:+0100
TZNAME:CET
DTSTART:20261025T010000
END:STANDARD
END:VTIMEZONE
BEGIN:VEVENT
DTSTART;VALUE=DATE:20250929
DTEND;VALUE=DATE:20251002
DTSTAMP:20260420T192156
CREATED:20250217T125624Z
LAST-MODIFIED:20250221T084444Z
UID:10000090-1759104000-1759363199@myconnectivity.lu
SUMMARY:Bits & Pretzels
DESCRIPTION:Des centaines de startups\, d’investisseurs et d’entreprises rejoignent Bits & Pretzels chaque année. Ils savent qu’un réseau ne se construit pas depuis votre bureau. \nOubliez des semaines de déjeuners d’affaires et de réunions avec des investisseurs – et faites tout votre réseautage en seulement trois jours. \n 
URL:https://myconnectivity.lu/calendar-event/bits-pretzels/
LOCATION:Messe München GmbH\, Messegelände\, 81823 München\, Allemagne\, Messe München GmbH\, Messegelände\, 81823 München\, Allemagne\, München\, Germany
CATEGORIES:Event,Networking
ATTACH;FMTTYPE=image/png:https://myconnectivity.lu/wp-content/uploads/2025/02/Bits-Pretzels.png
END:VEVENT
BEGIN:VEVENT
DTSTART;VALUE=DATE:20251001
DTEND;VALUE=DATE:20251002
DTSTAMP:20260420T192156
CREATED:20250905T072831Z
LAST-MODIFIED:20250908T102918Z
UID:10000311-1759276800-1759363199@myconnectivity.lu
SUMMARY:Open Source Conference 2025
DESCRIPTION:LOGICIELS OPEN SOURCE ET SOUVERAINETÉ NUMÉRIQUE\nÀ la suite d’une première édition très réussie de la Conférence Open Source organisée en combinaison avec la Conférence LibreOffice\, nous vous invitons cette année à participer afin de découvrir comment des organisations et institutions de l’UE et du monde entier utilisent et contribuent aux logiciels Open Source. \nLes logiciels Open Source\, associés à la souveraineté des données\, constituent la base nécessaire pour atteindre la souveraineté numérique\, en tant qu’effort inclusif où tous les participants coopèrent pour créer les outils dont nous avons besoin afin de protéger nos données tout en partageant les technologies qui améliorent la vie numérique de chacun. \nLes parcours thématiques de cette année offrent l’opportunité de partager les expériences de ceux qui ont choisi de produire et de mettre en œuvre des outils et plateformes Open Source qui renforcent la sécurité\, la résilience et la protection des données.
URL:https://myconnectivity.lu/calendar-event/open-source-conference-2025/
ATTACH;FMTTYPE=image/png:https://myconnectivity.lu/wp-content/uploads/2025/09/image-5.png
END:VEVENT
BEGIN:VEVENT
DTSTART;TZID=Europe/Paris:20251001T080000
DTEND;TZID=Europe/Paris:20251001T170000
DTSTAMP:20260420T192156
CREATED:20250908T092319Z
LAST-MODIFIED:20250908T092730Z
UID:10000321-1759305600-1759338000@myconnectivity.lu
SUMMARY:WBBA BDC Sao Paulo 2025
DESCRIPTION:Broadband plus intelligent pour l’Amérique latine : libérer l’accès et la croissance\, avec l’appui de l’IA et du cloud\nLe paysage du haut débit en Amérique latine est à l’aube d’une transformation\, menée par l’intelligence artificielle. Rejoignez-nous au WBBA BDC São Paulo 2025\, là où l’innovation rencontre l’impact. Le thème de l’événement « Un haut débit plus intelligent pour l’Amérique latine : débloquer l’accès et le potentiel de croissance grâce à l’innovation en IA » ouvre la voie à des idées audacieuses\, des solutions concrètes et l’avenir de la connectivité numérique. \nDécouvrez comment l’IA révolutionne l’infrastructure\, dynamise la fourniture de services et favorise une croissance inclusive dans toute la région. Des réseaux de prochaine génération aux stratégies novatrices\, ce forum de haut niveau rassemble les meilleurs esprits du haut débit\, de la politique et de la technologie.
URL:https://myconnectivity.lu/calendar-event/wbba-bdc-sao-paulo-2025/
LOCATION:São Paulo Expo | Rodovia dos Imigrantes\, Sao Paulo\, Brazil
CATEGORIES:Conference
ATTACH;FMTTYPE=image/png:https://myconnectivity.lu/wp-content/uploads/2025/09/Screenshot-2025-09-08-at-11.08.19-1.png
END:VEVENT
END:VCALENDAR