BEGIN:VCALENDAR
VERSION:2.0
PRODID:-//MyConnectivity - ECPv6.15.20//NONSGML v1.0//EN
CALSCALE:GREGORIAN
METHOD:PUBLISH
X-WR-CALNAME:MyConnectivity
X-ORIGINAL-URL:https://myconnectivity.lu
X-WR-CALDESC:Events for MyConnectivity
REFRESH-INTERVAL;VALUE=DURATION:PT1H
X-Robots-Tag:noindex
X-PUBLISHED-TTL:PT1H
BEGIN:VTIMEZONE
TZID:Europe/Paris
BEGIN:DAYLIGHT
TZOFFSETFROM:+0100
TZOFFSETTO:+0200
TZNAME:CEST
DTSTART:20240331T010000
END:DAYLIGHT
BEGIN:STANDARD
TZOFFSETFROM:+0200
TZOFFSETTO:+0100
TZNAME:CET
DTSTART:20241027T010000
END:STANDARD
BEGIN:DAYLIGHT
TZOFFSETFROM:+0100
TZOFFSETTO:+0200
TZNAME:CEST
DTSTART:20250330T010000
END:DAYLIGHT
BEGIN:STANDARD
TZOFFSETFROM:+0200
TZOFFSETTO:+0100
TZNAME:CET
DTSTART:20251026T010000
END:STANDARD
BEGIN:DAYLIGHT
TZOFFSETFROM:+0100
TZOFFSETTO:+0200
TZNAME:CEST
DTSTART:20260329T010000
END:DAYLIGHT
BEGIN:STANDARD
TZOFFSETFROM:+0200
TZOFFSETTO:+0100
TZNAME:CET
DTSTART:20261025T010000
END:STANDARD
END:VTIMEZONE
BEGIN:VEVENT
DTSTART;TZID=Europe/Paris:20250926T110000
DTEND;TZID=Europe/Paris:20250926T120000
DTSTAMP:20260423T072400
CREATED:20250729T140950Z
LAST-MODIFIED:20250729T140950Z
UID:10000299-1758884400-1758888000@myconnectivity.lu
SUMMARY:L-DIH Talks: Information security and DDoS incident management
DESCRIPTION:The L-DIH Talks is a series of webinars designed to inspire future-oriented manufacturing companies eager to leverage emerging technologies to stay ahead of the curve. Held twice a month\, the series provides essential insights\, expert advice and connections to drive the digital transformation of the sector in Luxembourg and the Greater Region. Episodes in 2025 will cover a wide range of topics\, such as cybersecurity\, predictive maintenance\, operational technologies (OT)\, visual inspection\, and more.
URL:https://myconnectivity.lu/calendar-event/l-dih-talks-information-security-and-ddos-incident-management/
CATEGORIES:Event,Webinar
ATTACH;FMTTYPE=image/png:https://myconnectivity.lu/wp-content/uploads/2025/07/Screenshot-2025-07-29-at-16.09.10.png
END:VEVENT
END:VCALENDAR