BEGIN:VCALENDAR
VERSION:2.0
PRODID:-//MyConnectivity - ECPv6.15.20//NONSGML v1.0//EN
CALSCALE:GREGORIAN
METHOD:PUBLISH
X-WR-CALNAME:MyConnectivity
X-ORIGINAL-URL:https://myconnectivity.lu
X-WR-CALDESC:Events for MyConnectivity
REFRESH-INTERVAL;VALUE=DURATION:PT1H
X-Robots-Tag:noindex
X-PUBLISHED-TTL:PT1H
BEGIN:VTIMEZONE
TZID:Europe/Paris
BEGIN:DAYLIGHT
TZOFFSETFROM:+0100
TZOFFSETTO:+0200
TZNAME:CEST
DTSTART:20250330T010000
END:DAYLIGHT
BEGIN:STANDARD
TZOFFSETFROM:+0200
TZOFFSETTO:+0100
TZNAME:CET
DTSTART:20251026T010000
END:STANDARD
BEGIN:DAYLIGHT
TZOFFSETFROM:+0100
TZOFFSETTO:+0200
TZNAME:CEST
DTSTART:20260329T010000
END:DAYLIGHT
BEGIN:STANDARD
TZOFFSETFROM:+0200
TZOFFSETTO:+0100
TZNAME:CET
DTSTART:20261025T010000
END:STANDARD
BEGIN:DAYLIGHT
TZOFFSETFROM:+0100
TZOFFSETTO:+0200
TZNAME:CEST
DTSTART:20270328T010000
END:DAYLIGHT
BEGIN:STANDARD
TZOFFSETFROM:+0200
TZOFFSETTO:+0100
TZNAME:CET
DTSTART:20271031T010000
END:STANDARD
END:VTIMEZONE
BEGIN:VEVENT
DTSTART;VALUE=DATE:20260608
DTEND;VALUE=DATE:20260612
DTSTAMP:20260420T014320
CREATED:20250916T141455Z
LAST-MODIFIED:20250916T141455Z
UID:10000377-1780876800-1781222399@myconnectivity.lu
SUMMARY:Women in tech at Web Summit Rio
DESCRIPTION:Our commitment to change \nWe are deeply committed to changing the gender balance at all of our events\, and to empowering women across the world by fostering networking opportunities\, building mentorship programs and nurturing our online women in tech community. \nWeb Summit’s women in tech program is a community initiative aimed at balancing the gender ratio at our events. \nJoin our network and secure your spot when sales open next week.
URL:https://myconnectivity.lu/calendar-event/women-in-tech-at-web-summit-rio/
LOCATION:Rio\, Rio de Janeiro\, RJ\, Brazil
CATEGORIES:Summit
ATTACH;FMTTYPE=image/png:https://myconnectivity.lu/wp-content/uploads/2025/09/Screenshot-2025-09-16-at-16.11.01.png
END:VEVENT
END:VCALENDAR